BEGIN:VCALENDAR
VERSION:2.0
PRODID:-//Delfingen//FR
CALSCALE:GREGORIAN
BEGIN:VEVENT
DTSTART;VALUE=DATE:20260604
DTEND;VALUE=DATE:20260604
SUMMARY:[DELFINGEN] Assemblée générale
UID:69ecdb25d2b95@tonsite.com
END:VEVENT
END:VCALENDAR