BEGIN:VCALENDAR
VERSION:2.0
PRODID:-//Delfingen//FR
CALSCALE:GREGORIAN
BEGIN:VEVENT
DTSTART;VALUE=DATE:20261102
DTEND;VALUE=DATE:20261102
SUMMARY:[DELFINGEN] CP Chiffres d\'affaires 3ème trimestre Exercice 2026
UID:69e73b7f6bf4f@tonsite.com
END:VEVENT
END:VCALENDAR