BEGIN:VCALENDAR
VERSION:2.0
PRODID:-//Delfingen//FR
CALSCALE:GREGORIAN
BEGIN:VEVENT
DTSTART;VALUE=DATE:20260914
DTEND;VALUE=DATE:20260914
SUMMARY:[DELFINGEN] Résultats semestriels 2026 / Diffusion du rapport financier semestriel 20256
UID:69e73b1288b71@tonsite.com
END:VEVENT
END:VCALENDAR