BEGIN:VCALENDAR
VERSION:2.0
PRODID:-//Delfingen//FR
CALSCALE:GREGORIAN
BEGIN:VEVENT
DTSTART;VALUE=DATE:20260727
DTEND;VALUE=DATE:20260727
SUMMARY:[DELFINGEN] CP Chiffres d\'affaires 2ème trimestre Exercice 2026 (Chiffres d\'affaires 1er semestre intégré)
UID:69e73b128ab98@tonsite.com
END:VEVENT
END:VCALENDAR