BEGIN:VCALENDAR
VERSION:2.0
PRODID:-//Delfingen//FR
CALSCALE:GREGORIAN
BEGIN:VEVENT
DTSTART;VALUE=DATE:20260505
DTEND;VALUE=DATE:20260505
SUMMARY:[DELFINGEN] CP Chiffres d\'affaires 1er trimestre - Exercice 2026
UID:69e73adeae840@tonsite.com
END:VEVENT
END:VCALENDAR