BEGIN:VCALENDAR
VERSION:2.0
PRODID:-//Delfingen//FR
CALSCALE:GREGORIAN
BEGIN:VEVENT
DTSTART;VALUE=DATE:20260330
DTEND;VALUE=DATE:20260330
SUMMARY:[DELFINGEN] CP Résultats annuels 2025
UID:69e73b3f3de0c@tonsite.com
END:VEVENT
END:VCALENDAR