BEGIN:VCALENDAR
VERSION:2.0
PRODID:-//Delfingen//FR
CALSCALE:GREGORIAN
BEGIN:VEVENT
DTSTART;VALUE=DATE:20261204
DTEND;VALUE=DATE:20261204
SUMMARY:[DELFINGEN] Conseil d’administration et réunion mixte
UID:69e73f7904db7@tonsite.com
END:VEVENT
END:VCALENDAR