BEGIN:VCALENDAR
VERSION:2.0
PRODID:-//Delfingen//FR
CALSCALE:GREGORIAN
BEGIN:VEVENT
DTSTART;VALUE=DATE:20260915
DTEND;VALUE=DATE:20260915
SUMMARY:[DELFINGEN] Réunion SFAF
UID:69e74072083d9@tonsite.com
END:VEVENT
END:VCALENDAR