BEGIN:VCALENDAR
VERSION:2.0
PRODID:-//Delfingen//FR
CALSCALE:GREGORIAN
BEGIN:VEVENT
DTSTART;VALUE=DATE:20260911
DTEND;VALUE=DATE:20260911
SUMMARY:[DELFINGEN] Conseil d’administration et réunion mixte
UID:69e73b6a68469@tonsite.com
END:VEVENT
END:VCALENDAR