BEGIN:VCALENDAR
VERSION:2.0
PRODID:-//Delfingen//FR
CALSCALE:GREGORIAN
BEGIN:VEVENT
DTSTART;VALUE=DATE:20260910
DTEND;VALUE=DATE:20260910
SUMMARY:[DELFINGEN] Comité d’audit
UID:69e73b6a5f168@tonsite.com
END:VEVENT
END:VCALENDAR