BEGIN:VCALENDAR
VERSION:2.0
PRODID:-//Delfingen//FR
CALSCALE:GREGORIAN
BEGIN:VEVENT
DTSTART;VALUE=DATE:20260724
DTEND;VALUE=DATE:20260724
SUMMARY:[DELFINGEN] Conseil d’administration
UID:69e73b3f47b15@tonsite.com
END:VEVENT
END:VCALENDAR