BEGIN:VCALENDAR
VERSION:2.0
PRODID:-//Delfingen//FR
CALSCALE:GREGORIAN
BEGIN:VEVENT
DTSTART;VALUE=DATE:20260604
DTEND;VALUE=DATE:20260604
SUMMARY:[DELFINGEN] Conseil d’administration et réunion mixte
UID:69e73b13e5f04@tonsite.com
END:VEVENT
END:VCALENDAR