BEGIN:VCALENDAR
VERSION:2.0
PRODID:-//Delfingen//FR
CALSCALE:GREGORIAN
BEGIN:VEVENT
DTSTART;VALUE=DATE:20260401
DTEND;VALUE=DATE:20260401
SUMMARY:[DELFINGEN] Réunion transparence
UID:69e73b353ba20@tonsite.com
END:VEVENT
END:VCALENDAR