BEGIN:VCALENDAR
VERSION:2.0
PRODID:-//Delfingen//FR
CALSCALE:GREGORIAN
BEGIN:VEVENT
DTSTART;VALUE=DATE:20260331
DTEND;VALUE=DATE:20260331
SUMMARY:[DELFINGEN] Réunion SFAF
UID:69e73b36ea8bb@tonsite.com
END:VEVENT
END:VCALENDAR