BEGIN:VCALENDAR
VERSION:2.0
PRODID:-//Delfingen//FR
CALSCALE:GREGORIAN
BEGIN:VEVENT
DTSTART;VALUE=DATE:20260327
DTEND;VALUE=DATE:20260327
SUMMARY:[DELFINGEN] Conseil d’administration et réunion mixte
UID:69e73b353005d@tonsite.com
END:VEVENT
END:VCALENDAR