BEGIN:VCALENDAR
VERSION:2.0
PRODID:-//Delfingen//FR
CALSCALE:GREGORIAN
BEGIN:VEVENT
DTSTART;VALUE=DATE:20260318
DTEND;VALUE=DATE:20260318
SUMMARY:[DELFINGEN] Comité d’audit
UID:69e73b40aae8a@tonsite.com
END:VEVENT
END:VCALENDAR