BEGIN:VCALENDAR
VERSION:2.0
PRODID:-//Delfingen//FR
CALSCALE:GREGORIAN
BEGIN:VEVENT
DTSTART;VALUE=DATE:20260505
DTEND;VALUE=DATE:20260505
SUMMARY:[DELFINGEN] Press release - Turnover Q1 2026
UID:69ecda23d0205@tonsite.com
END:VEVENT
END:VCALENDAR